BEGIN:VCALENDAR
VERSION:2.0
PRODID:-//Rhodes Grove Camp : Chambersburg, PA - ECPv6.15.18//NONSGML v1.0//EN
CALSCALE:GREGORIAN
METHOD:PUBLISH
X-WR-CALNAME:Rhodes Grove Camp : Chambersburg, PA
X-ORIGINAL-URL:https://rhodesgrove.com
X-WR-CALDESC:Events for Rhodes Grove Camp : Chambersburg, PA
REFRESH-INTERVAL;VALUE=DURATION:PT1H
X-Robots-Tag:noindex
X-PUBLISHED-TTL:PT1H
BEGIN:VTIMEZONE
TZID:UTC
BEGIN:STANDARD
TZOFFSETFROM:+0000
TZOFFSETTO:+0000
TZNAME:UTC
DTSTART:20190101T000000
END:STANDARD
END:VTIMEZONE
BEGIN:VEVENT
DTSTART;TZID=UTC:20200628T163000
DTEND;TZID=UTC:20200703T170000
DTSTAMP:20260419T080803
CREATED:20181024T214723Z
LAST-MODIFIED:20200226T180619Z
UID:10000128-1593361800-1593795600@rhodesgrove.com
SUMMARY:Wild Wind
DESCRIPTION:Equestrian Camp – Grades 8-12 \nGirls Only \n(25 hours of horse experience is required) \nClick Here for more information \nClick Here to Register
URL:https://rhodesgrove.com/event/wild-wind/
LOCATION:PA
END:VEVENT
BEGIN:VEVENT
DTSTART;TZID=UTC:20200702T090000
DTEND;TZID=UTC:20200702T170000
DTSTAMP:20260419T080803
CREATED:20180425T201800Z
LAST-MODIFIED:20200226T180650Z
UID:10000084-1593680400-1593709200@rhodesgrove.com
SUMMARY:Day Camp for Grades 2-3-4
DESCRIPTION:Day Camp for Campers entering grades 2-3-4. \nClick here for more information. \nClick here to register.
URL:https://rhodesgrove.com/event/day-camp-for-grades-2-3-4/2020-07-02/
LOCATION:PA
END:VEVENT
BEGIN:VEVENT
DTSTART;TZID=UTC:20200702T090000
DTEND;TZID=UTC:20200702T170000
DTSTAMP:20260419T080803
CREATED:20180425T213934Z
LAST-MODIFIED:20200226T180719Z
UID:10000089-1593680400-1593709200@rhodesgrove.com
SUMMARY:Swim Camp for Grades 2-3-4
DESCRIPTION:Swim Camp for Campers entering grades 2-3-4. \nClick here for more information. \nClick here to register.
URL:https://rhodesgrove.com/event/swim-camp/2020-07-02/
LOCATION:PA
END:VEVENT
BEGIN:VEVENT
DTSTART;TZID=UTC:20200702T170000
DTEND;TZID=UTC:20200703T090000
DTSTAMP:20260419T080803
CREATED:20180425T214212Z
LAST-MODIFIED:20191211T121625Z
UID:10000091-1593709200-1593766800@rhodesgrove.com
SUMMARY:Day Camp/Swim Camp Optional Overnight
DESCRIPTION:Day and Swim Campers can choose to stay overnight tonight.  Your camper will not want to miss this introduction to overnight camp complete with a variety show\, campfire\, and cabin experience.
URL:https://rhodesgrove.com/event/day-camp-swim-camp-optional-overnight/
LOCATION:PA
END:VEVENT
END:VCALENDAR