BEGIN:VCALENDAR
VERSION:2.0
PRODID:-//Rhodes Grove Camp : Chambersburg, PA - ECPv6.15.18//NONSGML v1.0//EN
CALSCALE:GREGORIAN
METHOD:PUBLISH
X-WR-CALNAME:Rhodes Grove Camp : Chambersburg, PA
X-ORIGINAL-URL:https://rhodesgrove.com
X-WR-CALDESC:Events for Rhodes Grove Camp : Chambersburg, PA
REFRESH-INTERVAL;VALUE=DURATION:PT1H
X-Robots-Tag:noindex
X-PUBLISHED-TTL:PT1H
BEGIN:VTIMEZONE
TZID:UTC
BEGIN:STANDARD
TZOFFSETFROM:+0000
TZOFFSETTO:+0000
TZNAME:UTC
DTSTART:20190101T000000
END:STANDARD
END:VTIMEZONE
BEGIN:VTIMEZONE
TZID:America/New_York
BEGIN:DAYLIGHT
TZOFFSETFROM:-0500
TZOFFSETTO:-0400
TZNAME:EDT
DTSTART:20190310T070000
END:DAYLIGHT
BEGIN:STANDARD
TZOFFSETFROM:-0400
TZOFFSETTO:-0500
TZNAME:EST
DTSTART:20191103T060000
END:STANDARD
BEGIN:DAYLIGHT
TZOFFSETFROM:-0500
TZOFFSETTO:-0400
TZNAME:EDT
DTSTART:20200308T070000
END:DAYLIGHT
BEGIN:STANDARD
TZOFFSETFROM:-0400
TZOFFSETTO:-0500
TZNAME:EST
DTSTART:20201101T060000
END:STANDARD
BEGIN:DAYLIGHT
TZOFFSETFROM:-0500
TZOFFSETTO:-0400
TZNAME:EDT
DTSTART:20210314T070000
END:DAYLIGHT
BEGIN:STANDARD
TZOFFSETFROM:-0400
TZOFFSETTO:-0500
TZNAME:EST
DTSTART:20211107T060000
END:STANDARD
END:VTIMEZONE
BEGIN:VEVENT
DTSTART;TZID=UTC:20200712T150000
DTEND;TZID=UTC:20200717T170000
DTSTAMP:20260419T091508
CREATED:20181024T202932Z
LAST-MODIFIED:20200226T181012Z
UID:10000119-1594566000-1595005200@rhodesgrove.com
SUMMARY:Journey Camp
DESCRIPTION:Classic Resident Camp for Campers entering grades 6-7-8. \nClick here for more information. \nClick here to register.
URL:https://rhodesgrove.com/event/journey-camp/
LOCATION:PA
END:VEVENT
BEGIN:VEVENT
DTSTART;TZID=America/New_York:20200712T150000
DTEND;TZID=America/New_York:20200717T170000
DTSTAMP:20260419T091508
CREATED:20191211T155713Z
LAST-MODIFIED:20200226T181044Z
UID:10000135-1594566000-1595005200@rhodesgrove.com
SUMMARY:Colts and Cowboys
DESCRIPTION:Equestrian Camp – Boys Only – Grades 6-8 \n(10-15 hours of horse experience required) \nClick Here for more information. \nClick Here to register.
URL:https://rhodesgrove.com/event/colts-and-cowboys/
LOCATION:PA
END:VEVENT
END:VCALENDAR