BEGIN:VCALENDAR
VERSION:2.0
PRODID:-//Rhodes Grove Camp : Chambersburg, PA - ECPv6.15.18//NONSGML v1.0//EN
CALSCALE:GREGORIAN
METHOD:PUBLISH
X-ORIGINAL-URL:https://rhodesgrove.com
X-WR-CALDESC:Events for Rhodes Grove Camp : Chambersburg, PA
REFRESH-INTERVAL;VALUE=DURATION:PT1H
X-Robots-Tag:noindex
X-PUBLISHED-TTL:PT1H
BEGIN:VTIMEZONE
TZID:UTC
BEGIN:STANDARD
TZOFFSETFROM:+0000
TZOFFSETTO:+0000
TZNAME:UTC
DTSTART:20180101T000000
END:STANDARD
END:VTIMEZONE
BEGIN:VEVENT
DTSTART;TZID=UTC:20200501T180000
DTEND;TZID=UTC:20200502T190000
DTSTAMP:20260419T125351
CREATED:20180818T182130Z
LAST-MODIFIED:20191004T222453Z
UID:10000115-1588356000-1588446000@rhodesgrove.com
SUMMARY:24/7 Student Leadership
DESCRIPTION:Student Leadership Weekend \nOn Saturday\, Parents are encouraged to attend the closing program at 6:00pm.
URL:https://rhodesgrove.com/event/24-7-student-leadership-may/
CATEGORIES:24/7 Leadership
END:VEVENT
BEGIN:VEVENT
DTSTART;TZID=UTC:20200403T190000
DTEND;TZID=UTC:20200404T190000
DTSTAMP:20260419T125351
CREATED:20180818T181954Z
LAST-MODIFIED:20191004T222316Z
UID:10000114-1585940400-1586026800@rhodesgrove.com
SUMMARY:24/7 Student Leadership
DESCRIPTION:Student Leadership Weekend
URL:https://rhodesgrove.com/event/24-7-student-leadership-april/
CATEGORIES:24/7 Leadership
END:VEVENT
BEGIN:VEVENT
DTSTART;TZID=UTC:20200313T180000
DTEND;TZID=UTC:20200314T190000
DTSTAMP:20260419T125351
CREATED:20180818T181835Z
LAST-MODIFIED:20191004T220959Z
UID:10000113-1584122400-1584212400@rhodesgrove.com
SUMMARY:24/7 Student Leadership
DESCRIPTION:Student Leadership Weekend
URL:https://rhodesgrove.com/event/24-7-student-leadership-9/
CATEGORIES:24/7 Leadership
END:VEVENT
BEGIN:VEVENT
DTSTART;TZID=UTC:20200131T180000
DTEND;TZID=UTC:20200201T190000
DTSTAMP:20260419T125351
CREATED:20180818T181659Z
LAST-MODIFIED:20200106T004743Z
UID:10000112-1580493600-1580583600@rhodesgrove.com
SUMMARY:24/7 Student Leadership
DESCRIPTION:Student Leadership Weekend
URL:https://rhodesgrove.com/event/24-7-student-leadership-feb/
CATEGORIES:24/7 Leadership
END:VEVENT
BEGIN:VEVENT
DTSTART;TZID=UTC:20200110T190000
DTEND;TZID=UTC:20200111T190000
DTSTAMP:20260419T125351
CREATED:20180818T180550Z
LAST-MODIFIED:20191004T222034Z
UID:10000111-1578682800-1578769200@rhodesgrove.com
SUMMARY:24/7 Student Leadership
DESCRIPTION:Student Leadership Development Weekend
URL:https://rhodesgrove.com/event/24-7-student-leadership-jan/
CATEGORIES:24/7 Leadership
END:VEVENT
BEGIN:VEVENT
DTSTART;TZID=UTC:20191206T180000
DTEND;TZID=UTC:20191207T190000
DTSTAMP:20260419T125351
CREATED:20180817T232755Z
LAST-MODIFIED:20191004T221915Z
UID:10000107-1575655200-1575745200@rhodesgrove.com
SUMMARY:24/7 Student Leadership
DESCRIPTION:Student Leadership Development Weekend
URL:https://rhodesgrove.com/event/24-7-student-leadership-dec/
CATEGORIES:24/7 Leadership
END:VEVENT
BEGIN:VEVENT
DTSTART;TZID=UTC:20191101T180000
DTEND;TZID=UTC:20191103T190000
DTSTAMP:20260419T125351
CREATED:20180817T233645Z
LAST-MODIFIED:20191004T221511Z
UID:10000109-1572631200-1572807600@rhodesgrove.com
SUMMARY:24/7 Student Leadership
DESCRIPTION:Student Leadership Development Weekend
URL:https://rhodesgrove.com/event/24-7-student-leadership-nov/
CATEGORIES:24/7 Leadership
END:VEVENT
BEGIN:VEVENT
DTSTART;TZID=UTC:20191004T180000
DTEND;TZID=UTC:20191005T190000
DTSTAMP:20260419T125351
CREATED:20180817T233459Z
LAST-MODIFIED:20191004T221144Z
UID:10000108-1570212000-1570302000@rhodesgrove.com
SUMMARY:24/7 Student Leadership
DESCRIPTION:Student Leadership Development Weekend
URL:https://rhodesgrove.com/event/24-7-student-leadership-oct/
CATEGORIES:24/7 Leadership
END:VEVENT
END:VCALENDAR