BEGIN:VCALENDAR
VERSION:2.0
PRODID:-//Rhodes Grove Camp : Chambersburg, PA - ECPv6.15.18//NONSGML v1.0//EN
CALSCALE:GREGORIAN
METHOD:PUBLISH
X-WR-CALNAME:Rhodes Grove Camp : Chambersburg, PA
X-ORIGINAL-URL:https://rhodesgrove.com
X-WR-CALDESC:Events for Rhodes Grove Camp : Chambersburg, PA
REFRESH-INTERVAL;VALUE=DURATION:PT1H
X-Robots-Tag:noindex
X-PUBLISHED-TTL:PT1H
BEGIN:VTIMEZONE
TZID:UTC
BEGIN:STANDARD
TZOFFSETFROM:+0000
TZOFFSETTO:+0000
TZNAME:UTC
DTSTART:20190101T000000
END:STANDARD
END:VTIMEZONE
BEGIN:VTIMEZONE
TZID:America/New_York
BEGIN:DAYLIGHT
TZOFFSETFROM:-0500
TZOFFSETTO:-0400
TZNAME:EDT
DTSTART:20190310T070000
END:DAYLIGHT
BEGIN:STANDARD
TZOFFSETFROM:-0400
TZOFFSETTO:-0500
TZNAME:EST
DTSTART:20191103T060000
END:STANDARD
BEGIN:DAYLIGHT
TZOFFSETFROM:-0500
TZOFFSETTO:-0400
TZNAME:EDT
DTSTART:20200308T070000
END:DAYLIGHT
BEGIN:STANDARD
TZOFFSETFROM:-0400
TZOFFSETTO:-0500
TZNAME:EST
DTSTART:20201101T060000
END:STANDARD
BEGIN:DAYLIGHT
TZOFFSETFROM:-0500
TZOFFSETTO:-0400
TZNAME:EDT
DTSTART:20210314T070000
END:DAYLIGHT
BEGIN:STANDARD
TZOFFSETFROM:-0400
TZOFFSETTO:-0500
TZNAME:EST
DTSTART:20211107T060000
END:STANDARD
END:VTIMEZONE
BEGIN:VEVENT
DTSTART;TZID=UTC:20200313T180000
DTEND;TZID=UTC:20200314T190000
DTSTAMP:20260423T024239
CREATED:20180818T181835Z
LAST-MODIFIED:20191004T220959Z
UID:10000113-1584122400-1584212400@rhodesgrove.com
SUMMARY:24/7 Student Leadership
DESCRIPTION:Student Leadership Weekend
URL:https://rhodesgrove.com/event/24-7-student-leadership-9/
LOCATION:PA
CATEGORIES:24/7 Leadership
END:VEVENT
BEGIN:VEVENT
DTSTART;VALUE=DATE:20200320
DTEND;VALUE=DATE:20200322
DTSTAMP:20260423T024239
CREATED:20200105T013902Z
LAST-MODIFIED:20200105T013902Z
UID:10000138-1584662400-1584835199@rhodesgrove.com
SUMMARY:Candidating Weekend
DESCRIPTION:
URL:https://rhodesgrove.com/event/candidating-weekend/
LOCATION:PA
END:VEVENT
BEGIN:VEVENT
DTSTART;TZID=America/New_York:20200321T080000
DTEND;TZID=America/New_York:20200321T170000
DTSTAMP:20260423T024239
CREATED:20200105T013953Z
LAST-MODIFIED:20200105T013953Z
UID:10000139-1584777600-1584810000@rhodesgrove.com
SUMMARY:UB Connected
DESCRIPTION:
URL:https://rhodesgrove.com/event/ub-connected/
LOCATION:PA
END:VEVENT
BEGIN:VEVENT
DTSTART;TZID=UTC:20200403T190000
DTEND;TZID=UTC:20200404T190000
DTSTAMP:20260423T024239
CREATED:20180818T181954Z
LAST-MODIFIED:20191004T222316Z
UID:10000114-1585940400-1586026800@rhodesgrove.com
SUMMARY:24/7 Student Leadership
DESCRIPTION:Student Leadership Weekend
URL:https://rhodesgrove.com/event/24-7-student-leadership-april/
LOCATION:PA
CATEGORIES:24/7 Leadership
END:VEVENT
BEGIN:VEVENT
DTSTART;TZID=UTC:20200501T180000
DTEND;TZID=UTC:20200502T190000
DTSTAMP:20260423T024239
CREATED:20180818T182130Z
LAST-MODIFIED:20191004T222453Z
UID:10000115-1588356000-1588446000@rhodesgrove.com
SUMMARY:24/7 Student Leadership
DESCRIPTION:Student Leadership Weekend \nOn Saturday\, Parents are encouraged to attend the closing program at 6:00pm.
URL:https://rhodesgrove.com/event/24-7-student-leadership-may/
LOCATION:PA
CATEGORIES:24/7 Leadership
END:VEVENT
BEGIN:VEVENT
DTSTART;TZID=UTC:20200512T110000
DTEND;TZID=UTC:20200512T130000
DTSTAMP:20260423T024239
CREATED:20180425T200317Z
LAST-MODIFIED:20200106T004627Z
UID:10000075-1589281200-1589288400@rhodesgrove.com
SUMMARY:Spring Ladies Tea
DESCRIPTION:Ladies – Join us for Tea. \nRegistration Opens on April 1. \nPlease call the office to make your reservation. \nIf you are connected with our automated system when you call\, please leave a message for Carrie at extension 115. \nReservations will be made in the order they are received.  All phone messages are marked with a time stamp in our office.
URL:https://rhodesgrove.com/event/spring-ladies-tea/
LOCATION:PA
END:VEVENT
BEGIN:VEVENT
DTSTART;TZID=UTC:20200604T110000
DTEND;TZID=UTC:20200607T150000
DTSTAMP:20260423T024239
CREATED:20190312T215318Z
LAST-MODIFIED:20191211T115443Z
UID:10000132-1591268400-1591542000@rhodesgrove.com
SUMMARY:Creative Hands Retreat
DESCRIPTION:Join us for our Summer Creative Hands Retreat and embrace a time for projects and time with friends. \nClick here for more information.
URL:https://rhodesgrove.com/event/creative-hands-retreat/
LOCATION:PA
END:VEVENT
BEGIN:VEVENT
DTSTART;TZID=UTC:20200608T083000
DTEND;TZID=UTC:20200608T170000
DTSTAMP:20260423T024239
CREATED:20180425T214945Z
LAST-MODIFIED:20200226T180225Z
UID:10000092-1591605000-1591635600@rhodesgrove.com
SUMMARY:Adventure Camp - Day Option
DESCRIPTION:Adventure Camp for campers entering Grades 4-5-6. \nNot Ready for to spend the night?  Then\, this is the camp for you! \nThere is an optional overnight opportunity on Thursday! \n  \nClick here for more information. \nClick here to register.
URL:https://rhodesgrove.com/event/adventure-camp-day-option/2020-06-08/
LOCATION:PA
END:VEVENT
BEGIN:VEVENT
DTSTART;TZID=UTC:20200609T083000
DTEND;TZID=UTC:20200609T170000
DTSTAMP:20260423T024239
CREATED:20180425T214945Z
LAST-MODIFIED:20200226T180225Z
UID:10000093-1591691400-1591722000@rhodesgrove.com
SUMMARY:Adventure Camp - Day Option
DESCRIPTION:Adventure Camp for campers entering Grades 4-5-6. \nNot Ready for to spend the night?  Then\, this is the camp for you! \nThere is an optional overnight opportunity on Thursday! \n  \nClick here for more information. \nClick here to register.
URL:https://rhodesgrove.com/event/adventure-camp-day-option/2020-06-09/
LOCATION:PA
END:VEVENT
BEGIN:VEVENT
DTSTART;TZID=UTC:20200610T083000
DTEND;TZID=UTC:20200610T170000
DTSTAMP:20260423T024239
CREATED:20180425T214945Z
LAST-MODIFIED:20200226T180225Z
UID:10000094-1591777800-1591808400@rhodesgrove.com
SUMMARY:Adventure Camp - Day Option
DESCRIPTION:Adventure Camp for campers entering Grades 4-5-6. \nNot Ready for to spend the night?  Then\, this is the camp for you! \nThere is an optional overnight opportunity on Thursday! \n  \nClick here for more information. \nClick here to register.
URL:https://rhodesgrove.com/event/adventure-camp-day-option/2020-06-10/
LOCATION:PA
END:VEVENT
END:VCALENDAR