BEGIN:VCALENDAR
VERSION:2.0
PRODID:-//Rhodes Grove Camp : Chambersburg, PA - ECPv6.15.18//NONSGML v1.0//EN
CALSCALE:GREGORIAN
METHOD:PUBLISH
X-ORIGINAL-URL:https://rhodesgrove.com
X-WR-CALDESC:Events for Rhodes Grove Camp : Chambersburg, PA
REFRESH-INTERVAL;VALUE=DURATION:PT1H
X-Robots-Tag:noindex
X-PUBLISHED-TTL:PT1H
BEGIN:VTIMEZONE
TZID:America/New_York
BEGIN:DAYLIGHT
TZOFFSETFROM:-0500
TZOFFSETTO:-0400
TZNAME:EDT
DTSTART:20220313T070000
END:DAYLIGHT
BEGIN:STANDARD
TZOFFSETFROM:-0400
TZOFFSETTO:-0500
TZNAME:EST
DTSTART:20221106T060000
END:STANDARD
BEGIN:DAYLIGHT
TZOFFSETFROM:-0500
TZOFFSETTO:-0400
TZNAME:EDT
DTSTART:20230312T070000
END:DAYLIGHT
BEGIN:STANDARD
TZOFFSETFROM:-0400
TZOFFSETTO:-0500
TZNAME:EST
DTSTART:20231105T060000
END:STANDARD
BEGIN:DAYLIGHT
TZOFFSETFROM:-0500
TZOFFSETTO:-0400
TZNAME:EDT
DTSTART:20240310T070000
END:DAYLIGHT
BEGIN:STANDARD
TZOFFSETFROM:-0400
TZOFFSETTO:-0500
TZNAME:EST
DTSTART:20241103T060000
END:STANDARD
BEGIN:DAYLIGHT
TZOFFSETFROM:-0500
TZOFFSETTO:-0400
TZNAME:EDT
DTSTART:20250309T070000
END:DAYLIGHT
BEGIN:STANDARD
TZOFFSETFROM:-0400
TZOFFSETTO:-0500
TZNAME:EST
DTSTART:20251102T060000
END:STANDARD
END:VTIMEZONE
BEGIN:VEVENT
DTSTART;TZID=America/New_York:20231231T200000
DTEND;TZID=America/New_York:20240101T010000
DTSTAMP:20260421T115233
CREATED:20231211T160823Z
LAST-MODIFIED:20231211T164709Z
UID:10000149-1704052800-1704070800@rhodesgrove.com
SUMMARY:NYC @ RGC
DESCRIPTION:What are you doing on New Year’s Eve?\nPlan to join us at Rhodes Grove Camp and Conference Center for our first annual\, NYE at RGC! Our event will be in the Meadows Conference Center from 8:00pm – 1:00am. Bring all of your family and your friends. Everyone is welcome! There’s no cost\, but please bring a snack and drink to share! (No alcohol allowed on the camp property!) \nDon’t want to drive home? We have hotel rooms available for reservation. \nRSVP by filling out this form on or before December 29. You don’t want to miss this!
URL:https://rhodesgrove.com/event/nyc-rgc/
LOCATION:Rhodes Grove Camp\, 7693 Browns Mill Road\, Chambersburg\, PA\, 17202\, United States
GEO:39.829434;-77.701696
X-APPLE-STRUCTURED-LOCATION;VALUE=URI;X-ADDRESS=Rhodes Grove Camp 7693 Browns Mill Road Chambersburg PA 17202 United States;X-APPLE-RADIUS=500;X-TITLE=7693 Browns Mill Road:geo:-77.701696,39.829434
END:VEVENT
END:VCALENDAR