BEGIN:VCALENDAR
VERSION:2.0
PRODID:-//Rhodes Grove Camp : Chambersburg, PA - ECPv6.15.18//NONSGML v1.0//EN
CALSCALE:GREGORIAN
METHOD:PUBLISH
X-WR-CALNAME:Rhodes Grove Camp : Chambersburg, PA
X-ORIGINAL-URL:https://rhodesgrove.com
X-WR-CALDESC:Events for Rhodes Grove Camp : Chambersburg, PA
REFRESH-INTERVAL;VALUE=DURATION:PT1H
X-Robots-Tag:noindex
X-PUBLISHED-TTL:PT1H
BEGIN:VTIMEZONE
TZID:UTC
BEGIN:STANDARD
TZOFFSETFROM:+0000
TZOFFSETTO:+0000
TZNAME:UTC
DTSTART:20180101T000000
END:STANDARD
END:VTIMEZONE
BEGIN:VEVENT
DTSTART;VALUE=DATE:20190812
DTEND;VALUE=DATE:20190815
DTSTAMP:20260423T015542
CREATED:20160718T225748Z
LAST-MODIFIED:20190729T232007Z
UID:10000071-1565568000-1565827199@rhodesgrove.com
SUMMARY:UB Ministry Couples Retreat
DESCRIPTION:UB Ministry Couples Retreat\nAugust 12-14\, 2019 \nInstead of our usual “Marriage Retreat\,” this year’s event is more of a “Spiritual Retreat.” Plan to get away for a few days with other pastoral couples\, retreat from the daily grind of ministry\, and reconnect spiritually. \nThere is no cost. This three-day\, two-night retreat is sponsored in full by the United Brethren National Office\, the United Brethren Association for Church Development\, and Rhodes Grove Camp. \nThis retreat is reserved for pastors and spouses serving in United Brethren in Christ churches. \nThe retreat this year will be guided by Mike Dean\, pastor of Living Waters UB church in Winchester\, Va. \n\nInterested? Or to request more details call or e-mail. \n717-375-4162\nubassociation@rhodesgrove.com
URL:https://rhodesgrove.com/event/ministry-couples-retreat/
LOCATION:PA
END:VEVENT
END:VCALENDAR